BEGIN:VCALENDAR
VERSION:2.0
PRODID:-//Writtle Infant School - ECPv6.15.11//NONSGML v1.0//EN
CALSCALE:GREGORIAN
METHOD:PUBLISH
X-WR-CALNAME:Writtle Infant School
X-ORIGINAL-URL:https://www.writtleinfantschool.com
X-WR-CALDESC:Events for Writtle Infant School
REFRESH-INTERVAL;VALUE=DURATION:PT1H
X-Robots-Tag:noindex
X-PUBLISHED-TTL:PT1H
BEGIN:VTIMEZONE
TZID:Europe/London
BEGIN:DAYLIGHT
TZOFFSETFROM:+0000
TZOFFSETTO:+0100
TZNAME:BST
DTSTART:20250330T010000
END:DAYLIGHT
BEGIN:STANDARD
TZOFFSETFROM:+0100
TZOFFSETTO:+0000
TZNAME:GMT
DTSTART:20251026T010000
END:STANDARD
BEGIN:DAYLIGHT
TZOFFSETFROM:+0000
TZOFFSETTO:+0100
TZNAME:BST
DTSTART:20260329T010000
END:DAYLIGHT
BEGIN:STANDARD
TZOFFSETFROM:+0100
TZOFFSETTO:+0000
TZNAME:GMT
DTSTART:20261025T010000
END:STANDARD
BEGIN:DAYLIGHT
TZOFFSETFROM:+0000
TZOFFSETTO:+0100
TZNAME:BST
DTSTART:20270328T010000
END:DAYLIGHT
BEGIN:STANDARD
TZOFFSETFROM:+0100
TZOFFSETTO:+0000
TZNAME:GMT
DTSTART:20271031T010000
END:STANDARD
END:VTIMEZONE
BEGIN:VEVENT
DTSTART;TZID=Europe/London:20260422T151500
DTEND;TZID=Europe/London:20260422T161000
DTSTAMP:20260425T123706
CREATED:20260319T233401Z
LAST-MODIFIED:20260422T135420Z
UID:29602-1776870900-1776874200@www.writtleinfantschool.com
SUMMARY:Mini Tennis club
DESCRIPTION:
URL:https://www.writtleinfantschool.com/event/mini-tennis-club-22/
END:VEVENT
BEGIN:VEVENT
DTSTART;TZID=Europe/London:20260429T151500
DTEND;TZID=Europe/London:20260429T161000
DTSTAMP:20260425T123706
CREATED:20260319T233402Z
LAST-MODIFIED:20260424T135325Z
UID:29604-1777475700-1777479000@www.writtleinfantschool.com
SUMMARY:Mini Tennis club
DESCRIPTION:
URL:https://www.writtleinfantschool.com/event/mini-tennis-club-23/
END:VEVENT
BEGIN:VEVENT
DTSTART;TZID=Europe/London:20260506T151500
DTEND;TZID=Europe/London:20260506T161000
DTSTAMP:20260425T123706
CREATED:20260319T233403Z
LAST-MODIFIED:20260424T135325Z
UID:29606-1778080500-1778083800@www.writtleinfantschool.com
SUMMARY:Mini Tennis club
DESCRIPTION:
URL:https://www.writtleinfantschool.com/event/mini-tennis-club-24/
END:VEVENT
BEGIN:VEVENT
DTSTART;TZID=Europe/London:20260513T151500
DTEND;TZID=Europe/London:20260513T161000
DTSTAMP:20260425T123706
CREATED:20260319T233404Z
LAST-MODIFIED:20260424T135325Z
UID:29608-1778685300-1778688600@www.writtleinfantschool.com
SUMMARY:Mini Tennis club
DESCRIPTION:
URL:https://www.writtleinfantschool.com/event/mini-tennis-club-25/
END:VEVENT
BEGIN:VEVENT
DTSTART;TZID=Europe/London:20260520T151500
DTEND;TZID=Europe/London:20260520T161000
DTSTAMP:20260425T123706
CREATED:20260319T233404Z
LAST-MODIFIED:20260424T135326Z
UID:29610-1779290100-1779293400@www.writtleinfantschool.com
SUMMARY:Mini Tennis club
DESCRIPTION:
URL:https://www.writtleinfantschool.com/event/mini-tennis-club-26/
END:VEVENT
BEGIN:VEVENT
DTSTART;TZID=Europe/London:20260603T151500
DTEND;TZID=Europe/London:20260603T161000
DTSTAMP:20260425T123706
CREATED:20260319T233405Z
LAST-MODIFIED:20260424T135328Z
UID:29611-1780499700-1780503000@www.writtleinfantschool.com
SUMMARY:Mini Tennis club
DESCRIPTION:
URL:https://www.writtleinfantschool.com/event/mini-tennis-club-27/
END:VEVENT
BEGIN:VEVENT
DTSTART;TZID=Europe/London:20260610T151500
DTEND;TZID=Europe/London:20260610T161000
DTSTAMP:20260425T123706
CREATED:20260319T233406Z
LAST-MODIFIED:20260424T135328Z
UID:29613-1781104500-1781107800@www.writtleinfantschool.com
SUMMARY:Mini Tennis club
DESCRIPTION:
URL:https://www.writtleinfantschool.com/event/mini-tennis-club-28/
END:VEVENT
BEGIN:VEVENT
DTSTART;TZID=Europe/London:20260617T151500
DTEND;TZID=Europe/London:20260617T161000
DTSTAMP:20260425T123706
CREATED:20260319T233406Z
LAST-MODIFIED:20260424T135329Z
UID:29615-1781709300-1781712600@www.writtleinfantschool.com
SUMMARY:Mini Tennis club
DESCRIPTION:
URL:https://www.writtleinfantschool.com/event/mini-tennis-club-29/
END:VEVENT
BEGIN:VEVENT
DTSTART;TZID=Europe/London:20260624T151500
DTEND;TZID=Europe/London:20260624T161000
DTSTAMP:20260425T123706
CREATED:20260319T233407Z
LAST-MODIFIED:20260424T135330Z
UID:29617-1782314100-1782317400@www.writtleinfantschool.com
SUMMARY:Mini Tennis club
DESCRIPTION:
URL:https://www.writtleinfantschool.com/event/mini-tennis-club-30/
END:VEVENT
BEGIN:VEVENT
DTSTART;TZID=Europe/London:20260701T151500
DTEND;TZID=Europe/London:20260701T161000
DTSTAMP:20260425T123706
CREATED:20260319T233408Z
LAST-MODIFIED:20260424T135331Z
UID:29619-1782918900-1782922200@www.writtleinfantschool.com
SUMMARY:Mini Tennis club
DESCRIPTION:
URL:https://www.writtleinfantschool.com/event/mini-tennis-club-31/
END:VEVENT
BEGIN:VEVENT
DTSTART;TZID=Europe/London:20260708T151500
DTEND;TZID=Europe/London:20260708T161000
DTSTAMP:20260425T123706
CREATED:20260319T233408Z
LAST-MODIFIED:20260424T135331Z
UID:29621-1783523700-1783527000@www.writtleinfantschool.com
SUMMARY:Mini Tennis club
DESCRIPTION:
URL:https://www.writtleinfantschool.com/event/mini-tennis-club-32/
END:VEVENT
END:VCALENDAR