BEGIN:VCALENDAR
VERSION:2.0
PRODID:-//Writtle Infant School - ECPv6.15.11//NONSGML v1.0//EN
CALSCALE:GREGORIAN
METHOD:PUBLISH
X-ORIGINAL-URL:https://www.writtleinfantschool.com
X-WR-CALDESC:Events for Writtle Infant School
REFRESH-INTERVAL;VALUE=DURATION:PT1H
X-Robots-Tag:noindex
X-PUBLISHED-TTL:PT1H
BEGIN:VTIMEZONE
TZID:Europe/London
BEGIN:DAYLIGHT
TZOFFSETFROM:+0000
TZOFFSETTO:+0100
TZNAME:BST
DTSTART:20250330T010000
END:DAYLIGHT
BEGIN:STANDARD
TZOFFSETFROM:+0100
TZOFFSETTO:+0000
TZNAME:GMT
DTSTART:20251026T010000
END:STANDARD
BEGIN:DAYLIGHT
TZOFFSETFROM:+0000
TZOFFSETTO:+0100
TZNAME:BST
DTSTART:20260329T010000
END:DAYLIGHT
BEGIN:STANDARD
TZOFFSETFROM:+0100
TZOFFSETTO:+0000
TZNAME:GMT
DTSTART:20261025T010000
END:STANDARD
BEGIN:DAYLIGHT
TZOFFSETFROM:+0000
TZOFFSETTO:+0100
TZNAME:BST
DTSTART:20270328T010000
END:DAYLIGHT
BEGIN:STANDARD
TZOFFSETFROM:+0100
TZOFFSETTO:+0000
TZNAME:GMT
DTSTART:20271031T010000
END:STANDARD
END:VTIMEZONE
BEGIN:VEVENT
DTSTART;VALUE=DATE:20260504
DTEND;VALUE=DATE:20260505
DTSTAMP:20260420T141003
CREATED:20250723T152026Z
LAST-MODIFIED:20260420T065038Z
UID:27998-1777852800-1777939199@www.writtleinfantschool.com
SUMMARY:Early May Bank Holiday
DESCRIPTION:
URL:https://www.writtleinfantschool.com/event/early-may-bank-holiday-4/
CATEGORIES:Holidays
END:VEVENT
BEGIN:VEVENT
DTSTART;VALUE=DATE:20260525
DTEND;VALUE=DATE:20260530
DTSTAMP:20260420T141003
CREATED:20250723T152026Z
LAST-MODIFIED:20260420T065040Z
UID:28006-1779667200-1780099199@www.writtleinfantschool.com
SUMMARY:Half Term holiday
DESCRIPTION:
URL:https://www.writtleinfantschool.com/event/half-term-holiday-8/
CATEGORIES:Holidays
END:VEVENT
BEGIN:VEVENT
DTSTART;VALUE=DATE:20260601
DTEND;VALUE=DATE:20260602
DTSTAMP:20260420T141003
CREATED:20250723T152026Z
LAST-MODIFIED:20260420T065040Z
UID:28007-1780272000-1780358399@www.writtleinfantschool.com
SUMMARY:Non-pupil day
DESCRIPTION:
URL:https://www.writtleinfantschool.com/event/non-pupil-day-8/
CATEGORIES:Holidays
END:VEVENT
BEGIN:VEVENT
DTSTART;VALUE=DATE:20260720
DTEND;VALUE=DATE:20260721
DTSTAMP:20260420T141003
CREATED:20250723T152027Z
LAST-MODIFIED:20260420T065042Z
UID:28016-1784505600-1784591999@www.writtleinfantschool.com
SUMMARY:Non-pupil day
DESCRIPTION:
URL:https://www.writtleinfantschool.com/event/non-pupil-day-9/
CATEGORIES:Holidays
END:VEVENT
BEGIN:VEVENT
DTSTART;VALUE=DATE:20260721
DTEND;VALUE=DATE:20260901
DTSTAMP:20260420T141003
CREATED:20250723T152027Z
LAST-MODIFIED:20260420T065042Z
UID:28017-1784592000-1788220799@www.writtleinfantschool.com
SUMMARY:Summer holidays
DESCRIPTION:
URL:https://www.writtleinfantschool.com/event/summer-holidays-2/
CATEGORIES:Holidays
END:VEVENT
END:VCALENDAR