BEGIN:VCALENDAR
VERSION:2.0
PRODID:-//Writtle Infant School - ECPv6.15.11//NONSGML v1.0//EN
CALSCALE:GREGORIAN
METHOD:PUBLISH
X-ORIGINAL-URL:https://www.writtleinfantschool.com
X-WR-CALDESC:Events for Writtle Infant School
REFRESH-INTERVAL;VALUE=DURATION:PT1H
X-Robots-Tag:noindex
X-PUBLISHED-TTL:PT1H
BEGIN:VTIMEZONE
TZID:Europe/London
BEGIN:DAYLIGHT
TZOFFSETFROM:+0000
TZOFFSETTO:+0100
TZNAME:BST
DTSTART:20240331T010000
END:DAYLIGHT
BEGIN:STANDARD
TZOFFSETFROM:+0100
TZOFFSETTO:+0000
TZNAME:GMT
DTSTART:20241027T010000
END:STANDARD
BEGIN:DAYLIGHT
TZOFFSETFROM:+0000
TZOFFSETTO:+0100
TZNAME:BST
DTSTART:20250330T010000
END:DAYLIGHT
BEGIN:STANDARD
TZOFFSETFROM:+0100
TZOFFSETTO:+0000
TZNAME:GMT
DTSTART:20251026T010000
END:STANDARD
BEGIN:DAYLIGHT
TZOFFSETFROM:+0000
TZOFFSETTO:+0100
TZNAME:BST
DTSTART:20260329T010000
END:DAYLIGHT
BEGIN:STANDARD
TZOFFSETFROM:+0100
TZOFFSETTO:+0000
TZNAME:GMT
DTSTART:20261025T010000
END:STANDARD
END:VTIMEZONE
BEGIN:VEVENT
DTSTART;VALUE=DATE:20250717
DTEND;VALUE=DATE:20250718
DTSTAMP:20260420T134627
CREATED:20250404T120535Z
LAST-MODIFIED:20250717T152010Z
UID:26872-1752710400-1752796799@www.writtleinfantschool.com
SUMMARY:Forest School: Foxes & Squirrels
DESCRIPTION:
URL:https://www.writtleinfantschool.com/event/forest-school-foxes-squirrels-25/
CATEGORIES:Reception
END:VEVENT
BEGIN:VEVENT
DTSTART;VALUE=DATE:20250715
DTEND;VALUE=DATE:20250716
DTSTAMP:20260420T134627
CREATED:20250404T120535Z
LAST-MODIFIED:20250715T152013Z
UID:26871-1752537600-1752623999@www.writtleinfantschool.com
SUMMARY:Forest School: Foxes & Squirrels
DESCRIPTION:
URL:https://www.writtleinfantschool.com/event/forest-school-foxes-squirrels-24/
CATEGORIES:Reception
END:VEVENT
BEGIN:VEVENT
DTSTART;VALUE=DATE:20250710
DTEND;VALUE=DATE:20250711
DTSTAMP:20260420T134627
CREATED:20250404T120535Z
LAST-MODIFIED:20250710T152009Z
UID:26870-1752105600-1752191999@www.writtleinfantschool.com
SUMMARY:Forest School: Foxes & Squirrels
DESCRIPTION:
URL:https://www.writtleinfantschool.com/event/forest-school-foxes-squirrels-23/
CATEGORIES:Reception
END:VEVENT
BEGIN:VEVENT
DTSTART;VALUE=DATE:20250708
DTEND;VALUE=DATE:20250709
DTSTAMP:20260420T134627
CREATED:20250404T120535Z
LAST-MODIFIED:20250708T152012Z
UID:26869-1751932800-1752019199@www.writtleinfantschool.com
SUMMARY:Forest School: Foxes & Squirrels
DESCRIPTION:
URL:https://www.writtleinfantschool.com/event/forest-school-foxes-squirrels-22/
CATEGORIES:Reception
END:VEVENT
BEGIN:VEVENT
DTSTART;VALUE=DATE:20250703
DTEND;VALUE=DATE:20250704
DTSTAMP:20260420T134627
CREATED:20250404T120534Z
LAST-MODIFIED:20250703T143510Z
UID:26868-1751500800-1751587199@www.writtleinfantschool.com
SUMMARY:Forest School: Foxes & Squirrels
DESCRIPTION:
URL:https://www.writtleinfantschool.com/event/forest-school-foxes-squirrels-21/
CATEGORIES:Reception
END:VEVENT
BEGIN:VEVENT
DTSTART;VALUE=DATE:20250701
DTEND;VALUE=DATE:20250702
DTSTAMP:20260420T134627
CREATED:20250404T120534Z
LAST-MODIFIED:20250701T143513Z
UID:26867-1751328000-1751414399@www.writtleinfantschool.com
SUMMARY:Forest School: Foxes & Squirrels
DESCRIPTION:
URL:https://www.writtleinfantschool.com/event/forest-school-foxes-squirrels-20/
CATEGORIES:Reception
END:VEVENT
BEGIN:VEVENT
DTSTART;VALUE=DATE:20250626
DTEND;VALUE=DATE:20250627
DTSTAMP:20260420T134627
CREATED:20250404T120532Z
LAST-MODIFIED:20250626T143510Z
UID:26866-1750896000-1750982399@www.writtleinfantschool.com
SUMMARY:Forest School: Foxes & Squirrels
DESCRIPTION:
URL:https://www.writtleinfantschool.com/event/forest-school-foxes-squirrels-19/
CATEGORIES:Reception
END:VEVENT
BEGIN:VEVENT
DTSTART;VALUE=DATE:20250624
DTEND;VALUE=DATE:20250625
DTSTAMP:20260420T134627
CREATED:20250404T120531Z
LAST-MODIFIED:20250624T143515Z
UID:26865-1750723200-1750809599@www.writtleinfantschool.com
SUMMARY:Forest School: Foxes & Squirrels
DESCRIPTION:
URL:https://www.writtleinfantschool.com/event/forest-school-foxes-squirrels-18/
CATEGORIES:Reception
END:VEVENT
BEGIN:VEVENT
DTSTART;VALUE=DATE:20250619
DTEND;VALUE=DATE:20250620
DTSTAMP:20260420T134627
CREATED:20250404T120528Z
LAST-MODIFIED:20250619T143510Z
UID:26864-1750291200-1750377599@www.writtleinfantschool.com
SUMMARY:Forest School: Foxes & Squirrels
DESCRIPTION:
URL:https://www.writtleinfantschool.com/event/forest-school-foxes-squirrels-17/
CATEGORIES:Reception
END:VEVENT
BEGIN:VEVENT
DTSTART;VALUE=DATE:20250617
DTEND;VALUE=DATE:20250618
DTSTAMP:20260420T134627
CREATED:20250404T120528Z
LAST-MODIFIED:20250617T143510Z
UID:26862-1750118400-1750204799@www.writtleinfantschool.com
SUMMARY:Forest School: Foxes & Squirrels
DESCRIPTION:
URL:https://www.writtleinfantschool.com/event/forest-school-foxes-squirrels-16/
CATEGORIES:Reception
END:VEVENT
BEGIN:VEVENT
DTSTART;VALUE=DATE:20250612
DTEND;VALUE=DATE:20250613
DTSTAMP:20260420T134627
CREATED:20250404T120526Z
LAST-MODIFIED:20250612T143510Z
UID:26860-1749686400-1749772799@www.writtleinfantschool.com
SUMMARY:Forest School: Foxes & Squirrels
DESCRIPTION:
URL:https://www.writtleinfantschool.com/event/forest-school-foxes-squirrels-14/
CATEGORIES:Reception
END:VEVENT
BEGIN:VEVENT
DTSTART;VALUE=DATE:20250610
DTEND;VALUE=DATE:20250611
DTSTAMP:20260420T134627
CREATED:20250404T120527Z
LAST-MODIFIED:20250610T143513Z
UID:26861-1749513600-1749599999@www.writtleinfantschool.com
SUMMARY:Forest School: Foxes & Squirrels
DESCRIPTION:
URL:https://www.writtleinfantschool.com/event/forest-school-foxes-squirrels-15/
CATEGORIES:Reception
END:VEVENT
BEGIN:VEVENT
DTSTART;VALUE=DATE:20250605
DTEND;VALUE=DATE:20250606
DTSTAMP:20260420T134627
CREATED:20250404T120525Z
LAST-MODIFIED:20250605T142009Z
UID:26859-1749081600-1749167999@www.writtleinfantschool.com
SUMMARY:Forest School: Foxes & Squirrels
DESCRIPTION:
URL:https://www.writtleinfantschool.com/event/forest-school-foxes-squirrels-13/
CATEGORIES:Reception
END:VEVENT
BEGIN:VEVENT
DTSTART;VALUE=DATE:20250603
DTEND;VALUE=DATE:20250604
DTSTAMP:20260420T134627
CREATED:20250404T120524Z
LAST-MODIFIED:20250603T142011Z
UID:26858-1748908800-1748995199@www.writtleinfantschool.com
SUMMARY:Forest School: Foxes & Squirrels
DESCRIPTION:
URL:https://www.writtleinfantschool.com/event/forest-school-foxes-squirrels-12/
CATEGORIES:Reception
END:VEVENT
BEGIN:VEVENT
DTSTART;VALUE=DATE:20250522
DTEND;VALUE=DATE:20250523
DTSTAMP:20260420T134627
CREATED:20250404T120521Z
LAST-MODIFIED:20250522T135010Z
UID:26855-1747872000-1747958399@www.writtleinfantschool.com
SUMMARY:Forest School: Foxes & Squirrels
DESCRIPTION:
URL:https://www.writtleinfantschool.com/event/forest-school-foxes-squirrels-9/
CATEGORIES:Reception
END:VEVENT
BEGIN:VEVENT
DTSTART;VALUE=DATE:20250520
DTEND;VALUE=DATE:20250521
DTSTAMP:20260420T134627
CREATED:20250404T120520Z
LAST-MODIFIED:20250520T135008Z
UID:26854-1747699200-1747785599@www.writtleinfantschool.com
SUMMARY:Forest School: Foxes & Squirrels
DESCRIPTION:
URL:https://www.writtleinfantschool.com/event/forest-school-foxes-squirrels-8/
CATEGORIES:Reception
END:VEVENT
BEGIN:VEVENT
DTSTART;VALUE=DATE:20250515
DTEND;VALUE=DATE:20250516
DTSTAMP:20260420T134627
CREATED:20250404T120519Z
LAST-MODIFIED:20250515T133511Z
UID:26852-1747267200-1747353599@www.writtleinfantschool.com
SUMMARY:Forest School: Foxes & Squirrels
DESCRIPTION:
URL:https://www.writtleinfantschool.com/event/forest-school-foxes-squirrels-7/
CATEGORIES:Reception
END:VEVENT
BEGIN:VEVENT
DTSTART;VALUE=DATE:20250513
DTEND;VALUE=DATE:20250514
DTSTAMP:20260420T134627
CREATED:20250404T120518Z
LAST-MODIFIED:20250513T133509Z
UID:26851-1747094400-1747180799@www.writtleinfantschool.com
SUMMARY:Forest School: Foxes & Squirrels
DESCRIPTION:
URL:https://www.writtleinfantschool.com/event/forest-school-foxes-squirrels-6/
CATEGORIES:Reception
END:VEVENT
BEGIN:VEVENT
DTSTART;VALUE=DATE:20250508
DTEND;VALUE=DATE:20250509
DTSTAMP:20260420T134627
CREATED:20250404T120517Z
LAST-MODIFIED:20250508T130510Z
UID:26850-1746662400-1746748799@www.writtleinfantschool.com
SUMMARY:Forest School: Foxes & Squirrels
DESCRIPTION:
URL:https://www.writtleinfantschool.com/event/forest-school-foxes-squirrels-5/
CATEGORIES:Reception
END:VEVENT
BEGIN:VEVENT
DTSTART;VALUE=DATE:20250506
DTEND;VALUE=DATE:20250507
DTSTAMP:20260420T134627
CREATED:20250404T120515Z
LAST-MODIFIED:20250506T125012Z
UID:26849-1746489600-1746575999@www.writtleinfantschool.com
SUMMARY:Forest School: Foxes & Squirrels
DESCRIPTION:
URL:https://www.writtleinfantschool.com/event/forest-school-foxes-squirrels-4/
CATEGORIES:Reception
END:VEVENT
BEGIN:VEVENT
DTSTART;VALUE=DATE:20250501
DTEND;VALUE=DATE:20250502
DTSTAMP:20260420T134627
CREATED:20250404T120515Z
LAST-MODIFIED:20250501T123509Z
UID:26848-1746057600-1746143999@www.writtleinfantschool.com
SUMMARY:Forest School: Foxes & Squirrels
DESCRIPTION:
URL:https://www.writtleinfantschool.com/event/forest-school-foxes-squirrels-3/
CATEGORIES:Reception
END:VEVENT
BEGIN:VEVENT
DTSTART;VALUE=DATE:20250429
DTEND;VALUE=DATE:20250430
DTSTAMP:20260420T134627
CREATED:20250404T120513Z
LAST-MODIFIED:20250429T123510Z
UID:26847-1745884800-1745971199@www.writtleinfantschool.com
SUMMARY:Forest School: Foxes & Squirrels
DESCRIPTION:
URL:https://www.writtleinfantschool.com/event/forest-school-foxes-squirrels-2/
CATEGORIES:Reception
END:VEVENT
BEGIN:VEVENT
DTSTART;VALUE=DATE:20250424
DTEND;VALUE=DATE:20250425
DTSTAMP:20260420T134627
CREATED:20250404T120508Z
LAST-MODIFIED:20250424T122014Z
UID:26845-1745452800-1745539199@www.writtleinfantschool.com
SUMMARY:Forest School: Foxes & Squirrels
DESCRIPTION:
URL:https://www.writtleinfantschool.com/event/forest-school-foxes-squirrels/
CATEGORIES:Reception
END:VEVENT
END:VCALENDAR