BEGIN:VCALENDAR
VERSION:2.0
PRODID:-//Writtle Infant School - ECPv6.15.11//NONSGML v1.0//EN
CALSCALE:GREGORIAN
METHOD:PUBLISH
X-ORIGINAL-URL:https://www.writtleinfantschool.com
X-WR-CALDESC:Events for Writtle Infant School
REFRESH-INTERVAL;VALUE=DURATION:PT1H
X-Robots-Tag:noindex
X-PUBLISHED-TTL:PT1H
BEGIN:VTIMEZONE
TZID:Europe/London
BEGIN:DAYLIGHT
TZOFFSETFROM:+0000
TZOFFSETTO:+0100
TZNAME:BST
DTSTART:20240331T010000
END:DAYLIGHT
BEGIN:STANDARD
TZOFFSETFROM:+0100
TZOFFSETTO:+0000
TZNAME:GMT
DTSTART:20241027T010000
END:STANDARD
BEGIN:DAYLIGHT
TZOFFSETFROM:+0000
TZOFFSETTO:+0100
TZNAME:BST
DTSTART:20250330T010000
END:DAYLIGHT
BEGIN:STANDARD
TZOFFSETFROM:+0100
TZOFFSETTO:+0000
TZNAME:GMT
DTSTART:20251026T010000
END:STANDARD
BEGIN:DAYLIGHT
TZOFFSETFROM:+0000
TZOFFSETTO:+0100
TZNAME:BST
DTSTART:20260329T010000
END:DAYLIGHT
BEGIN:STANDARD
TZOFFSETFROM:+0100
TZOFFSETTO:+0000
TZNAME:GMT
DTSTART:20261025T010000
END:STANDARD
END:VTIMEZONE
BEGIN:VEVENT
DTSTART;VALUE=DATE:20250603
DTEND;VALUE=DATE:20250604
DTSTAMP:20260421T095255
CREATED:20250404T120524Z
LAST-MODIFIED:20250603T142011Z
UID:26858-1748908800-1748995199@www.writtleinfantschool.com
SUMMARY:Forest School: Foxes & Squirrels
DESCRIPTION:
URL:https://www.writtleinfantschool.com/event/forest-school-foxes-squirrels-12/
CATEGORIES:Reception
END:VEVENT
BEGIN:VEVENT
DTSTART;VALUE=DATE:20250605
DTEND;VALUE=DATE:20250606
DTSTAMP:20260421T095255
CREATED:20250404T120525Z
LAST-MODIFIED:20250605T142009Z
UID:26859-1749081600-1749167999@www.writtleinfantschool.com
SUMMARY:Forest School: Foxes & Squirrels
DESCRIPTION:
URL:https://www.writtleinfantschool.com/event/forest-school-foxes-squirrels-13/
CATEGORIES:Reception
END:VEVENT
BEGIN:VEVENT
DTSTART;VALUE=DATE:20250610
DTEND;VALUE=DATE:20250611
DTSTAMP:20260421T095255
CREATED:20250404T120527Z
LAST-MODIFIED:20250610T143513Z
UID:26861-1749513600-1749599999@www.writtleinfantschool.com
SUMMARY:Forest School: Foxes & Squirrels
DESCRIPTION:
URL:https://www.writtleinfantschool.com/event/forest-school-foxes-squirrels-15/
CATEGORIES:Reception
END:VEVENT
BEGIN:VEVENT
DTSTART;VALUE=DATE:20250612
DTEND;VALUE=DATE:20250613
DTSTAMP:20260421T095255
CREATED:20250404T120526Z
LAST-MODIFIED:20250612T143510Z
UID:26860-1749686400-1749772799@www.writtleinfantschool.com
SUMMARY:Forest School: Foxes & Squirrels
DESCRIPTION:
URL:https://www.writtleinfantschool.com/event/forest-school-foxes-squirrels-14/
CATEGORIES:Reception
END:VEVENT
BEGIN:VEVENT
DTSTART;VALUE=DATE:20250617
DTEND;VALUE=DATE:20250618
DTSTAMP:20260421T095255
CREATED:20250404T120528Z
LAST-MODIFIED:20250617T143510Z
UID:26862-1750118400-1750204799@www.writtleinfantschool.com
SUMMARY:Forest School: Foxes & Squirrels
DESCRIPTION:
URL:https://www.writtleinfantschool.com/event/forest-school-foxes-squirrels-16/
CATEGORIES:Reception
END:VEVENT
BEGIN:VEVENT
DTSTART;VALUE=DATE:20250619
DTEND;VALUE=DATE:20250620
DTSTAMP:20260421T095255
CREATED:20250404T120528Z
LAST-MODIFIED:20250619T143510Z
UID:26864-1750291200-1750377599@www.writtleinfantschool.com
SUMMARY:Forest School: Foxes & Squirrels
DESCRIPTION:
URL:https://www.writtleinfantschool.com/event/forest-school-foxes-squirrels-17/
CATEGORIES:Reception
END:VEVENT
BEGIN:VEVENT
DTSTART;VALUE=DATE:20250624
DTEND;VALUE=DATE:20250625
DTSTAMP:20260421T095255
CREATED:20250404T120531Z
LAST-MODIFIED:20250624T143515Z
UID:26865-1750723200-1750809599@www.writtleinfantschool.com
SUMMARY:Forest School: Foxes & Squirrels
DESCRIPTION:
URL:https://www.writtleinfantschool.com/event/forest-school-foxes-squirrels-18/
CATEGORIES:Reception
END:VEVENT
BEGIN:VEVENT
DTSTART;VALUE=DATE:20250626
DTEND;VALUE=DATE:20250627
DTSTAMP:20260421T095255
CREATED:20250404T120532Z
LAST-MODIFIED:20250626T143510Z
UID:26866-1750896000-1750982399@www.writtleinfantschool.com
SUMMARY:Forest School: Foxes & Squirrels
DESCRIPTION:
URL:https://www.writtleinfantschool.com/event/forest-school-foxes-squirrels-19/
CATEGORIES:Reception
END:VEVENT
END:VCALENDAR