BEGIN:VCALENDAR
VERSION:2.0
PRODID:-//Writtle Infant School - ECPv6.15.11//NONSGML v1.0//EN
CALSCALE:GREGORIAN
METHOD:PUBLISH
X-WR-CALNAME:Writtle Infant School
X-ORIGINAL-URL:https://www.writtleinfantschool.com
X-WR-CALDESC:Events for Writtle Infant School
REFRESH-INTERVAL;VALUE=DURATION:PT1H
X-Robots-Tag:noindex
X-PUBLISHED-TTL:PT1H
BEGIN:VTIMEZONE
TZID:Europe/London
BEGIN:DAYLIGHT
TZOFFSETFROM:+0000
TZOFFSETTO:+0100
TZNAME:BST
DTSTART:20250330T010000
END:DAYLIGHT
BEGIN:STANDARD
TZOFFSETFROM:+0100
TZOFFSETTO:+0000
TZNAME:GMT
DTSTART:20251026T010000
END:STANDARD
BEGIN:DAYLIGHT
TZOFFSETFROM:+0000
TZOFFSETTO:+0100
TZNAME:BST
DTSTART:20260329T010000
END:DAYLIGHT
BEGIN:STANDARD
TZOFFSETFROM:+0100
TZOFFSETTO:+0000
TZNAME:GMT
DTSTART:20261025T010000
END:STANDARD
BEGIN:DAYLIGHT
TZOFFSETFROM:+0000
TZOFFSETTO:+0100
TZNAME:BST
DTSTART:20270328T010000
END:DAYLIGHT
BEGIN:STANDARD
TZOFFSETFROM:+0100
TZOFFSETTO:+0000
TZNAME:GMT
DTSTART:20271031T010000
END:STANDARD
END:VTIMEZONE
BEGIN:VEVENT
DTSTART;VALUE=DATE:20260422
DTEND;VALUE=DATE:20260424
DTSTAMP:20260423T015723
CREATED:20260312T223904Z
LAST-MODIFIED:20260422T135420Z
UID:29565-1776816000-1776988799@www.writtleinfantschool.com
SUMMARY:Piano Lessons with Bonnie (SEN Room)
DESCRIPTION:
URL:https://www.writtleinfantschool.com/event/piano-lessons-with-bonnie-77/
END:VEVENT
BEGIN:VEVENT
DTSTART;TZID=Europe/London:20260423T151500
DTEND;TZID=Europe/London:20260423T160000
DTSTAMP:20260423T015723
CREATED:20260420T065037Z
LAST-MODIFIED:20260422T135420Z
UID:29706-1776957300-1776960000@www.writtleinfantschool.com
SUMMARY:Staff Clubs
DESCRIPTION:
URL:https://www.writtleinfantschool.com/event/staff-clubs-60/
END:VEVENT
END:VCALENDAR